BEGIN:VCALENDAR
VERSION:2.0
PRODID:-//Gallatin Valley Newcomers Club - ECPv6.15.20//NONSGML v1.0//EN
CALSCALE:GREGORIAN
METHOD:PUBLISH
X-WR-CALNAME:Gallatin Valley Newcomers Club
X-ORIGINAL-URL:https://gvncmt.org
X-WR-CALDESC:Events for Gallatin Valley Newcomers Club
REFRESH-INTERVAL;VALUE=DURATION:PT1H
X-Robots-Tag:noindex
X-PUBLISHED-TTL:PT1H
BEGIN:VTIMEZONE
TZID:America/Denver
BEGIN:DAYLIGHT
TZOFFSETFROM:-0700
TZOFFSETTO:-0600
TZNAME:MDT
DTSTART:20230312T090000
END:DAYLIGHT
BEGIN:STANDARD
TZOFFSETFROM:-0600
TZOFFSETTO:-0700
TZNAME:MST
DTSTART:20231105T080000
END:STANDARD
BEGIN:DAYLIGHT
TZOFFSETFROM:-0700
TZOFFSETTO:-0600
TZNAME:MDT
DTSTART:20240310T090000
END:DAYLIGHT
BEGIN:STANDARD
TZOFFSETFROM:-0600
TZOFFSETTO:-0700
TZNAME:MST
DTSTART:20241103T080000
END:STANDARD
BEGIN:DAYLIGHT
TZOFFSETFROM:-0700
TZOFFSETTO:-0600
TZNAME:MDT
DTSTART:20250309T090000
END:DAYLIGHT
BEGIN:STANDARD
TZOFFSETFROM:-0600
TZOFFSETTO:-0700
TZNAME:MST
DTSTART:20251102T080000
END:STANDARD
BEGIN:DAYLIGHT
TZOFFSETFROM:-0700
TZOFFSETTO:-0600
TZNAME:MDT
DTSTART:20260308T090000
END:DAYLIGHT
BEGIN:STANDARD
TZOFFSETFROM:-0600
TZOFFSETTO:-0700
TZNAME:MST
DTSTART:20261101T080000
END:STANDARD
BEGIN:DAYLIGHT
TZOFFSETFROM:-0700
TZOFFSETTO:-0600
TZNAME:MDT
DTSTART:20270314T090000
END:DAYLIGHT
BEGIN:STANDARD
TZOFFSETFROM:-0600
TZOFFSETTO:-0700
TZNAME:MST
DTSTART:20271107T080000
END:STANDARD
END:VTIMEZONE
BEGIN:VEVENT
DTSTART;TZID=America/Denver:20240716T100000
DTEND;TZID=America/Denver:20240716T113000
DTSTAMP:20260419T090922
CREATED:20240615T124430Z
LAST-MODIFIED:20240713T231204Z
UID:27853-1721124000-1721129400@gvncmt.org
SUMMARY:July 2024 Mingle & Munch
DESCRIPTION:April 2025 Mingle & Munch Coffee\n\n\n\n\n\n\n\n\n\n\n\n\n\n\nNewcomers Club Mingle & Munch coffees are held in the homes of members. Enjoy sharing conversation and food in a friendly\, casual setting. \n\n\n\nNO COSTNo reservations necessaryCome one and all. Join the fun. Bring a guest. \n\n\n\nFood Bank donations are encouraged.This month’s theme:  EAT YOUR VEGGIES( canned vegetables ) \n\n\n\nMembers: Log In for this month’s location. \n\n\n\n  We welcome guests to join us. For more information about this coffee\, please Contact Us.
URL:https://gvncmt.org/event/july-2024-mingle-munch/
CATEGORIES:Coffee
ATTACH;FMTTYPE=image/png:https://gvncmt.org/wp-content/uploads/2023/11/red-coffee-cup-for-MM.png
END:VEVENT
BEGIN:VEVENT
DTSTART;TZID=America/Denver:20240917T100000
DTEND;TZID=America/Denver:20240917T113000
DTSTAMP:20260419T090923
CREATED:20240703T220946Z
LAST-MODIFIED:20240703T220951Z
UID:27911-1726567200-1726572600@gvncmt.org
SUMMARY:September 2024 Mingle & Munch
DESCRIPTION:April 2025 Mingle & Munch Coffee\n\n\n\n\n\n\n\n\n\n\n\n\n\n\nNewcomers Club Mingle & Munch coffees are held in the homes of members. Enjoy sharing conversation and food in a friend\, casual setting. \n\n\n\nNO COSTNo reservations necessaryCome one and all. Join the fun. Bring a guest. \n\n\n\nFood Bank donations are encouraged.This month’s theme: SANDWICH TIME16 oz. jars Peanut Butter. Any Jam or Jelly. \n\n\n\nMembers: Log In for this month’s location. \n\n\n\nWe welcome guests to join us. For more information about this coffee\, please Contact Us.
URL:https://gvncmt.org/event/september-2024-mingle-munch/
CATEGORIES:Coffee
ATTACH;FMTTYPE=image/png:https://gvncmt.org/wp-content/uploads/2023/11/red-coffee-cup-for-MM.png
END:VEVENT
BEGIN:VEVENT
DTSTART;TZID=America/Denver:20241015T100000
DTEND;TZID=America/Denver:20241015T113000
DTSTAMP:20260419T090923
CREATED:20240713T230452Z
LAST-MODIFIED:20240713T231039Z
UID:27938-1728986400-1728991800@gvncmt.org
SUMMARY:October 2024 Mingle & Munch
DESCRIPTION:April 2025 Mingle & Munch Coffee\n\n\n\n\n\n\n\n\n\n\n\n\n\n\nNewcomers Club Mingle & Munch coffees are held in the homes of members. Enjoy sharing conversation and food in a friendly\, casual setting. \n\n\n\nNO COSTNo reservations necessaryCome one and all. Join the fun. Bring a guest. \n\n\n\nFood Bank donations are encouraged.This month’s theme: Little Ones(Baby Food\, Diapers\, Wipes\, Shampoo\, Lotion) \n\n\n\nMembers: Log In for this month’s location. \n\n\n\nWe welcome guests to join us. For more information about this coffee\, please Contact Us.
URL:https://gvncmt.org/event/october-2024-mingle-munch/
CATEGORIES:Coffee
ATTACH;FMTTYPE=image/png:https://gvncmt.org/wp-content/uploads/2023/11/red-coffee-cup-for-MM.png
END:VEVENT
BEGIN:VEVENT
DTSTART;TZID=America/Denver:20241119T100000
DTEND;TZID=America/Denver:20241119T113000
DTSTAMP:20260419T090923
CREATED:20240713T232509Z
LAST-MODIFIED:20240713T233048Z
UID:27941-1732010400-1732015800@gvncmt.org
SUMMARY:November 2024 Mingle & Munch
DESCRIPTION:April 2025 Mingle & Munch Coffee\n\n\n\n\n\n\n\n\n\n\n\n\n\n\nNewcomers Club Mingle & Munch coffees are held in the homes of members. Enjoy sharing conversation and food in a friendly\, casual setting. \n\n\n\nNO COSTNo reservations necessaryCome one and all. Join the fun. Bring a guest. \n\n\n\nFood Bank donations are encouraged.This month’s theme: Gobble-Gobble – Thanksgiving Dinner(Canned Yams\, Stuffing Mix\, Jello Mixes\, Packaged Gravy Mixes\, Boxed Mashed Potatoes\, Canned Peas\, Corn or Green Beans) \n\n\n\nMembers: Log In for this month’s location. \n\n\n\nWe welcome guests to join us. For more information about this coffee\, please Contact Us.
URL:https://gvncmt.org/event/november-2024-mingle-munch/
CATEGORIES:Coffee
ATTACH;FMTTYPE=image/png:https://gvncmt.org/wp-content/uploads/2023/11/red-coffee-cup-for-MM.png
END:VEVENT
BEGIN:VEVENT
DTSTART;TZID=America/Denver:20250218T100000
DTEND;TZID=America/Denver:20250218T113000
DTSTAMP:20260419T090923
CREATED:20250131T160435Z
LAST-MODIFIED:20250131T160538Z
UID:30239-1739872800-1739878200@gvncmt.org
SUMMARY:February 2025 Mingle & Munch
DESCRIPTION:April 2025 Mingle & Munch Coffee\n\n\n\n\n\n\n\n\n\n\n\n\n\n\nNewcomers Club Mingle & Munch coffees are held in the homes of members. Enjoy sharing conversation and food in a friendly\, casual setting. \n\n\n\nNO COST \n\n\n\nNo reservations necessary.Come and and all. Join the fun. Bring a guest. \n\n\n\nFood Bank donations are encouraged.This month’s theme: PASTA! PASTA!(Bagged or Boxed Pasta\, Canned Pasta or Pasta Meals\, Pasta Sauce.) \n\n\n\nMembers: Log in for this month’s location. \n\n\n\nWe welcome guests to join us. For more information about this coffee\, please Contact Us.
URL:https://gvncmt.org/event/february-2025-mingle-munch/
CATEGORIES:Coffee
ATTACH;FMTTYPE=image/png:https://gvncmt.org/wp-content/uploads/2023/11/red-coffee-cup-for-MM.png
END:VEVENT
BEGIN:VEVENT
DTSTART;TZID=America/Denver:20250318T100000
DTEND;TZID=America/Denver:20250318T113000
DTSTAMP:20260419T090923
CREATED:20250201T171138Z
LAST-MODIFIED:20250307T134238Z
UID:30257-1742292000-1742297400@gvncmt.org
SUMMARY:March 2025 Mingle & Munch Coffee
DESCRIPTION:April 2025 Mingle & Munch Coffee\n\n\n\n\n\n\n\n\n\n\n\n\n\n\nNewcomers Club Mingle & Munch coffees are held in the homes of members. Enjoy sharing conversation and food in a friendly\, casual setting. \n\n\n\nNO COSTNo reservations necessaryCome one and all. Join the fun. Bring a guest. \n\n\n\nFood Bank donations are encouraged.This month’s theme: FURRY FRIENDS(Dog and Cat Food\, Treats\, Kitty Litter) \n\n\n\nMembers: Log In for this month’s location. \n\n\n\nWe welcome guests to join us. For more information about this coffee\, please Contact Us. \n\n\n\n\n\n\n\n\n\n\n\n\n\n(In case of an unforeseen cancellation\, an email will be sent to all members before the event)
URL:https://gvncmt.org/event/march-2025-mingle-munch/
CATEGORIES:Coffee
ATTACH;FMTTYPE=image/png:https://gvncmt.org/wp-content/uploads/2023/11/red-coffee-cup-for-MM.png
END:VEVENT
BEGIN:VEVENT
DTSTART;TZID=America/Denver:20250415T100000
DTEND;TZID=America/Denver:20250415T113000
DTSTAMP:20260419T090923
CREATED:20250209T155455Z
LAST-MODIFIED:20250307T134103Z
UID:30289-1744711200-1744716600@gvncmt.org
SUMMARY:April 2025 Mingle & Munch Coffee
DESCRIPTION:April 2025 Mingle & Munch Coffee\n\n\n\n\n\n\n\n\n\n\n\n\n\n\nNewcomers Club Mingle & Munch coffees are held in the homes of members. Enjoy sharing conversation and food in a friendly\, casual setting \n\n\n\nNO COSTNo reservations necessaryCome one and all. Join the fun. Bring a guest. \n\n\n\nFood Bank donations are encouraged.This month’s theme: HIPPITY-HOPPITY – EASTER DINNER(Ham Slices\, Boxed Scalloped or AuGratin Potatoes\, Canned Green Beans\, Corn or Carrots\, Jello Mixes\, Candy for Easter Baskets) \n\n\n\nMembers: Log In for this month’s location. \n\n\n\nWe welcome guests to join us. For more information about this coffee\, please Contact Us.
URL:https://gvncmt.org/event/april-2025-mingle-munch/
CATEGORIES:Coffee
ATTACH;FMTTYPE=image/png:https://gvncmt.org/wp-content/uploads/2023/11/red-coffee-cup-for-MM.png
END:VEVENT
BEGIN:VEVENT
DTSTART;TZID=America/Denver:20250520T100000
DTEND;TZID=America/Denver:20250520T113000
DTSTAMP:20260419T090923
CREATED:20250307T133504Z
LAST-MODIFIED:20250428T134336Z
UID:30440-1747735200-1747740600@gvncmt.org
SUMMARY:May 2025 Mingle & Munch Coffee
DESCRIPTION:April 2025 Mingle & Munch Coffee\n\n\n\n\n\n\n\n\n\n\n\n\n\n\nNewcomers Club Mingle & Munch coffees are held in the homes of members. Enjoy sharing conversation and food in a friendly\, casual setting \n\n\n\nNO COSTNo reservations necessaryCome one and all. Join the fun. Bring a guest. \n\n\n\nFood Bank donations are encouraged.This month’s theme: OLE! OLE!(Mexican food: Taco Shells\, Tortillas\, Refried Beans\, Black Beans\, Salsa\, Diced Chiles\, Enchilada Sauce) \n\n\n\nMembers: Log In for this month’s location and specific directions. \n\n\n\nWe welcome guests to join us. For more information about this coffee\, please Contact Us.
URL:https://gvncmt.org/event/may-2025-mingle-munch-coffee/
CATEGORIES:Coffee
ATTACH;FMTTYPE=image/png:https://gvncmt.org/wp-content/uploads/2023/11/red-coffee-cup-for-MM.png
END:VEVENT
BEGIN:VEVENT
DTSTART;TZID=America/Denver:20250715T100000
DTEND;TZID=America/Denver:20250715T113000
DTSTAMP:20260419T090923
CREATED:20250403T153028Z
LAST-MODIFIED:20250617T182925Z
UID:30695-1752573600-1752579000@gvncmt.org
SUMMARY:July 2025 Mingle & Munch Coffee
DESCRIPTION:April 2025 Mingle & Munch Coffee\n\n\n\n\n\n\n\n\n\n\n\n\n\n\nGallatin Valley Newcomers Club Mingle & Munch monthly coffees are held in the homes of members. Enjoy engaging conversations and light refreshments in a friendly atmosphere. \n\n\n\nNo reservations necessary.Join the fun and bring a friend. \n\n\n\nFood Bank donations are encouraged.This month’s theme: EAT YOUR VEGGIES(Canned Vegetables) \n\n\n\nMembers: Log In for this month’s location. \n\n\n\nWe welcome guests to join us. For more information about this coffee\, please Contact Us. \n\n\n\n\n\n\n\n\n\n\n\n\n\n(In case of an unforeseen cancellation\, an email will be sent to all members before the event)
URL:https://gvncmt.org/event/july-2025-mingle-munch-coffee/
CATEGORIES:Coffee
ATTACH;FMTTYPE=image/jpeg:https://gvncmt.org/wp-content/uploads/2025/06/coffee-cup-photo-June-2025-scaled.jpg
END:VEVENT
BEGIN:VEVENT
DTSTART;TZID=America/Denver:20250819T100000
DTEND;TZID=America/Denver:20250819T113000
DTSTAMP:20260419T090923
CREATED:20250719T230217Z
LAST-MODIFIED:20250719T230517Z
UID:31387-1755597600-1755603000@gvncmt.org
SUMMARY:August 2025 Mingle & Munch Coffee
DESCRIPTION:April 2025 Mingle & Munch Coffee\n\n\n\n\n\n\n\n\n\n\n\n\n\n\nNewcomers Club’s Mingle & Munch coffees are held in the homes of members. Enjoy sharing conversation and food in a friendly\, casual setting. \n\n\n\nNO COSTNo reservations necessaryCome one and all. Join the fun. Bring a guest. \n\n\n\nFood Bank donations are encouraged.This month’s theme: PASTA! PASTA!(Bagged or Boxed Pasta\, Canned Pasta\, Pasta Meals\, Canned Pasta Sauce) \n\n\n\nMembers: Log in for this month’s location. \n\n\n\nWe welcome guests to join us. For more information about this coffee\, please Contact Us.
URL:https://gvncmt.org/event/august-2025-mingle-munch-coffee/
CATEGORIES:Coffee
ATTACH;FMTTYPE=image/jpeg:https://gvncmt.org/wp-content/uploads/2025/06/coffee-cup-photo-June-2025-scaled.jpg
END:VEVENT
BEGIN:VEVENT
DTSTART;TZID=America/Denver:20250916T100000
DTEND;TZID=America/Denver:20250916T113000
DTSTAMP:20260419T090923
CREATED:20250812T211932Z
LAST-MODIFIED:20250815T190245Z
UID:31549-1758016800-1758022200@gvncmt.org
SUMMARY:September 2025 Mingle & Munch Coffee
DESCRIPTION:April 2025 Mingle & Munch Coffee\n\n\n\n\n\n\n\n\n\n\n\n\n\n\nNewcomers Club Mingle & Munch coffees are held in the homes of members. Enjoy sharing conversation and food in a friendly casual setting. \n\n\n\nNO COST \n\n\n\nNo reservations necessary.Come one and all.  Join the fun.  Bring a guest. \n\n\n\nFood Bank donations are encouraged.This month’s theme: BREAKFAST OF CHAMPIONS(Pancake/Waffle Mix\, Toaster Pastries\, Syrup\, Juice\, Cereal) \n\n\n\nMembers: Log in for this month’s location. \n\n\n\nWe welcome guests to join us. For more information about this coffee\, please Contact Us.
URL:https://gvncmt.org/event/september-2025-mingle-munch-coffee/
CATEGORIES:Coffee
ATTACH;FMTTYPE=image/jpeg:https://gvncmt.org/wp-content/uploads/2025/06/coffee-cup-photo-June-2025-scaled.jpg
END:VEVENT
BEGIN:VEVENT
DTSTART;TZID=America/Denver:20251021T100000
DTEND;TZID=America/Denver:20251021T113000
DTSTAMP:20260419T090923
CREATED:20250815T191505Z
LAST-MODIFIED:20250815T191654Z
UID:31585-1761040800-1761046200@gvncmt.org
SUMMARY:October 2025 Mingle & Munch Coffee
DESCRIPTION:April 2025 Mingle & Munch Coffee\n\n\n\n\n\n\n\n\n\n\n\n\n\n\nNewcomers Club Mingle & Munch coffees are held in the homes of members. Enjoy sharing conversation and food in a friendly casual setting. \n\n\n\nNO COST \n\n\n\nNo reservations necessary.Come one and all. Join the fun. Bring a guest. \n\n\n\nFood Bank donations are encouraged.This month’s theme: BABIES AND TOTS:  (Baby Food\, Formula\, Diapers\, Wipes\, Baby Shampoo and Lotion) \n\n\n\nMembers: Log in for this month’s location. \n\n\n\nWe welcome guests to join us. For more information about this coffee\, please Contact Us.
URL:https://gvncmt.org/event/october-2025-mingle-munch-coffee/
CATEGORIES:Coffee
ATTACH;FMTTYPE=image/jpeg:https://gvncmt.org/wp-content/uploads/2025/06/coffee-cup-photo-June-2025-scaled.jpg
END:VEVENT
BEGIN:VEVENT
DTSTART;TZID=America/Denver:20251118T100000
DTEND;TZID=America/Denver:20251118T113000
DTSTAMP:20260419T090923
CREATED:20250815T193130Z
LAST-MODIFIED:20250815T193132Z
UID:31591-1763460000-1763465400@gvncmt.org
SUMMARY:November 2025 Mingle & Munch Coffee
DESCRIPTION:April 2025 Mingle & Munch Coffee\n\n\n\n\n\n\n\n\n\n\n\n\n\n\nNewcomers Club Mingle & Munch coffees are held in the homes of members. Enjoy sharing conversation and food in a friendly casual setting. \n\n\n\nNO COST \n\n\n\nNewcomers Club Mingle & Munch coffees are held in the homes of members. Enjoy sharing conversation and food in a friendly casual setting. \n\n\n\nFood Bank donations are encouraged.This month’s theme: TURKEY TROT (Thanksgiving Dinner):  (Canned Yams\, Stuffing Mix\, Jello Mixes\, Packaged Gravy Mixes\, Boxed Mashed Potatoes\, Canned Peas\, Corn\, Green Beans) \n\n\n\nMembers: Log in for this month’s location. \n\n\n\nWe welcome guests to join us. For more information about this coffee\, please Contact Us.
URL:https://gvncmt.org/event/november-2025-mingle-munch-coffee/
CATEGORIES:Coffee
ATTACH;FMTTYPE=image/jpeg:https://gvncmt.org/wp-content/uploads/2025/06/coffee-cup-photo-June-2025-scaled.jpg
END:VEVENT
BEGIN:VEVENT
DTSTART;TZID=America/Denver:20260217T100000
DTEND;TZID=America/Denver:20260217T113000
DTSTAMP:20260419T090923
CREATED:20251120T194316Z
LAST-MODIFIED:20251120T194318Z
UID:32800-1771322400-1771327800@gvncmt.org
SUMMARY:February 2026 Mingle & Munch Coffee
DESCRIPTION:April 2025 Mingle & Munch Coffee\n\n\n\n\n\n\n\n\n\n\n\n\n\n\nNewcomers Club Mingle & Munch coffees are held in the homes of members. Enjoy sharing conversation and food in a friendly casual setting. \n\n\n\nNO COST \n\n\n\nNo reservations necessary.Come one and all. Join the fun. Bring a guest. \n\n\n\nFood Bank donations are encouraged.This month’s theme: Pasta! Pasta!:  (Bagged or Boxed Pasta\, Canned Pasta\, Pasta Meals\, Canned Pasta Sauce) \n\n\n\nMembers: Log in for this month’s location. \n\n\n\nWe welcome guests to join us. For more information about this coffee\, please Contact Us.
URL:https://gvncmt.org/event/february-2026-mingle-munch-coffee/
CATEGORIES:Coffee
ATTACH;FMTTYPE=image/jpeg:https://gvncmt.org/wp-content/uploads/2025/06/coffee-cup-photo-June-2025-scaled.jpg
END:VEVENT
BEGIN:VEVENT
DTSTART;TZID=America/Denver:20260317T100000
DTEND;TZID=America/Denver:20260317T113000
DTSTAMP:20260419T090923
CREATED:20251120T195338Z
LAST-MODIFIED:20251120T195550Z
UID:32802-1773741600-1773747000@gvncmt.org
SUMMARY:March 2026 Mingle & Munch Coffee
DESCRIPTION:April 2025 Mingle & Munch Coffee\n\n\n\n\n\n\n\n\n\n\n\n\n\n\nNewcomers Club Mingle & Munch coffees are held in the homes of members. Enjoy sharing conversation and food in a friendly casual setting. \n\n\n\nNO COST \n\n\n\nNo reservations necessary.Come one and all. Join the fun. Bring a guest. \n\n\n\nFood Bank donations are encouraged.This month’s theme: Hippity Hop (Easter Dinner): (Ham Slices\, Boxed Scalloped Potatoes and/or Au Gratin Potatoes\, Canned Green Beans\, Corn\, Carrots\, Jello Mixes  (Candy for Easter Baskets)) \n\n\n\nMembers: Log in for this month’s location. \n\n\n\nWe welcome guests to join us. For more information about this coffee\, please Contact Us.
URL:https://gvncmt.org/event/march-2026-mingle-munch-coffee/
CATEGORIES:Coffee
ATTACH;FMTTYPE=image/png:https://gvncmt.org/wp-content/uploads/2023/11/red-coffee-cup-for-MM.png
END:VEVENT
BEGIN:VEVENT
DTSTART;TZID=America/Denver:20260421T100000
DTEND;TZID=America/Denver:20260421T113000
DTSTAMP:20260419T090923
CREATED:20260220T092252Z
LAST-MODIFIED:20260417T000153Z
UID:33282-1776765600-1776771000@gvncmt.org
SUMMARY:April 2026 Mingle & Munch Coffee
DESCRIPTION:April 2025 Mingle & Munch Coffee\n\n\n\n\n\n\n\n\n\n\n\n\n\n\nNewcomers Club Mingle & Munch coffees are held in the homes of members. Enjoy sharing conversation and food in a friendly casual setting. \n\n\n\nNo reservations necessary.Come one and all. Join the fun. Bring a guest. \n\n\n\nFood Bank donations are encouraged.This month’s theme: Cinco de Mayo (Mexican Food)         Taco Shells\, Tortillas\, Refried and/or Black Beans\, Salsa (no glass jars please)\,Diced chilies\, Enchilada sauce.  biellie eilish nude marielenar67 \n\n\n\nMembers: Log in for this month’s location. \n\n\n\nWe welcome guests to join us. For more information about this coffee\, please Contact Us.
URL:https://gvncmt.org/event/april-2026-mingle-munch-coffee/
CATEGORIES:Coffee
ATTACH;FMTTYPE=image/png:https://gvncmt.org/wp-content/uploads/2023/11/red-coffee-cup-for-MM.png
END:VEVENT
BEGIN:VEVENT
DTSTART;TZID=America/Denver:20260519T100000
DTEND;TZID=America/Denver:20260519T113000
DTSTAMP:20260419T090923
CREATED:20260318T181605Z
LAST-MODIFIED:20260319T024726Z
UID:33429-1779184800-1779190200@gvncmt.org
SUMMARY:May 2026 Mingle & Munch Coffee
DESCRIPTION:April 2025 Mingle & Munch Coffee\n\n\n\n\n\n\n\n\n\n\n\n\n\n\nNewcomers Club Mingle & Munch coffees are held in the homes of members. Enjoy sharing conversation and food in a friendly casual setting. \n\n\n\nNo reservations necessary.Come one and all. Join the fun. Bring a guest. \n\n\n\nFood Bank donations are encouraged.This month’s theme: Four Footed Friends:  Dog and Cat Food\, Treats\, Kitty Litter \n\n\n\nMembers: Log in for this month’s location. \n\n\n\nWe welcome guests to join us. For more information about this coffee\, please Contact Us.
URL:https://gvncmt.org/event/may-2026-mingle-munch-coffee/
CATEGORIES:Coffee
ATTACH;FMTTYPE=image/jpeg:https://gvncmt.org/wp-content/uploads/2025/06/coffee-cup-photo-June-2025-scaled.jpg
END:VEVENT
END:VCALENDAR